BEGIN:VCALENDAR
VERSION:2.0
PRODID:-//SeniorNet Sweden - ECPv6.15.20//NONSGML v1.0//EN
CALSCALE:GREGORIAN
METHOD:PUBLISH
X-WR-CALNAME:SeniorNet Sweden
X-ORIGINAL-URL:https://seniornet.se
X-WR-CALDESC:Events for SeniorNet Sweden
REFRESH-INTERVAL;VALUE=DURATION:PT1H
X-Robots-Tag:noindex
X-PUBLISHED-TTL:PT1H
BEGIN:VTIMEZONE
TZID:Europe/Stockholm
BEGIN:DAYLIGHT
TZOFFSETFROM:+0100
TZOFFSETTO:+0200
TZNAME:CEST
DTSTART:20250330T010000
END:DAYLIGHT
BEGIN:STANDARD
TZOFFSETFROM:+0200
TZOFFSETTO:+0100
TZNAME:CET
DTSTART:20251026T010000
END:STANDARD
BEGIN:DAYLIGHT
TZOFFSETFROM:+0100
TZOFFSETTO:+0200
TZNAME:CEST
DTSTART:20260329T010000
END:DAYLIGHT
BEGIN:STANDARD
TZOFFSETFROM:+0200
TZOFFSETTO:+0100
TZNAME:CET
DTSTART:20261025T010000
END:STANDARD
BEGIN:DAYLIGHT
TZOFFSETFROM:+0100
TZOFFSETTO:+0200
TZNAME:CEST
DTSTART:20270328T010000
END:DAYLIGHT
BEGIN:STANDARD
TZOFFSETFROM:+0200
TZOFFSETTO:+0100
TZNAME:CET
DTSTART:20271031T010000
END:STANDARD
END:VTIMEZONE
BEGIN:VEVENT
DTSTART;TZID=Europe/Stockholm:20260423T133000
DTEND;TZID=Europe/Stockholm:20260423T153000
DTSTAMP:20260423T102804
CREATED:20260416T173802Z
LAST-MODIFIED:20260416T173802Z
UID:103069-1776951000-1776958200@seniornet.se
SUMMARY:Varför får jag så mycket spam?
DESCRIPTION:Känner du igen dig i att inkorgen kan se ut som på en loppmarknad? Vinster i lotterier du aldrig deltagit i\, okända avsändare som vill bli din vän eller meddelanden som påstår att datorn är i fara om du inte gör något bums. \nSpam\, bluffmejl och oönskad reklam är något alla råkar ut för i dag. Varför har det blivit så\, och vad är det som händer\, bakom kulisserna? Är det möjligt på något sätt minska spam-flödet? Hur kommer det sig att just jag drabbas? \nJohan Murray har ställt sig dessa frågor och undersökt saken. \n\n\n\nBeteckning\nHT26-D03\n\n\nLedare\nJohan Murray\n\n\nTid\n13:30 – ca 15:00 Föredrag med kort paus\nca 15:00 – 15:30 Eftersnack med föredragshållaren\n\n\nZoom\nAnmäl dig till datatraffar@snso.se så får du besked om du får en Zoomplats.\nLänken sänds ut på förmiddagen den 23:e april. Kolla även i skräppost-mappen!\nMax 100 deltagare på Zoom\n\n\nLokal\nI Svärdet på Rosenlundsgatan 44A. Här behövs ingen föranmälan.\nMax 50 fysiska deltagare\n\n\nDokumentation\nEtt referat publiceras på snso.se någon dag efter dataträffen\n\n\nAvgift\nIngen avgift\n\n\nBegränsning\nEndast för medlemmar i SeniorNet
URL:https://seniornet.se/event/varfor-far-jag-sa-mycket-spam/
ATTACH;FMTTYPE=image/png:https://seniornet.se/wp-content/uploads/2026/04/spam.png
END:VEVENT
BEGIN:VEVENT
DTSTART;TZID=Europe/Stockholm:20260424T100000
DTEND;TZID=Europe/Stockholm:20260424T120000
DTSTAMP:20260423T102804
CREATED:20251127T135313Z
LAST-MODIFIED:20260321T170117Z
UID:100380-1777024800-1777032000@seniornet.se
SUMMARY:Styrelseseminarium SeniorNet Sweden
DESCRIPTION:Digitalt seminarium för styrelseledamöter och funktionärer. Preliminärt datum. Inbjudan skickas via mejl i anslutning till seminariet.
URL:https://seniornet.se/event/styrelseseminarium-seniornet-sweden/
ATTACH;FMTTYPE=image/png:https://seniornet.se/wp-content/uploads/2025/11/Inger-Gran--e1764251758353.png
END:VEVENT
BEGIN:VEVENT
DTSTART;TZID=Europe/Stockholm:20260424T140000
DTEND;TZID=Europe/Stockholm:20260424T150000
DTSTAMP:20260423T102804
CREATED:20260321T171752Z
LAST-MODIFIED:20260321T171752Z
UID:102521-1777039200-1777042800@seniornet.se
SUMMARY:SNIK – Ett nätverk för inspiration\, kunskap och erfarenhetsutbyte
DESCRIPTION:SNIK – Ett nätverk för inspiration\, kunskap och erfarenhetsutbyte mellan lokala SeniorNet-föreningar.\nVi delar erfarenheter\, idéer och goda exempel. Tillsammans utvecklar vi verksamheten – med inspiration\, lärande\, samverkan och gemenskap i fokus. \nSNIK är öppet för alla föreningar som vill bidra och växa. Genom regelbundna träffar och digitala möten skapar vi en gemensam plattform. \nVill din förening vara med och bidra – och ta del av andras erfarenheter?\nVi träffas fredagar klockan 14-15 i Teams. ”Möteslänk” \nVill du ha full tillgång till SNIK och länk till direktinloggning\,  kontakta Per Tegevi\, mejl: uv@seniornet.se \nVarmt välkommen till SNIK
URL:https://seniornet.se/event/snik-ett-natverk-for-inspiration-kunskap-och-erfarenhetsutbyte-28/
ATTACH;FMTTYPE=image/jpeg:https://seniornet.se/wp-content/uploads/2025/11/lagg-till-lite-glada-emojies-e1762289495877.jpg
END:VEVENT
BEGIN:VEVENT
DTSTART;TZID=Europe/Stockholm:20260427T153000
DTEND;TZID=Europe/Stockholm:20260427T173000
DTSTAMP:20260423T102804
CREATED:20260108T183054Z
LAST-MODIFIED:20260108T183054Z
UID:101944-1777303800-1777311000@seniornet.se
SUMMARY:SeniorNet Tyresö digital träff via Zoom.
DESCRIPTION:Varannan måndag har vi i SeniorNet Tyresö en digital träff via Zoom. Vi tar upp något eller några intressanta IT-ämnen. Du kan också som besökare aktualisera något som du tycker är angeläget att få veta mer om.\n\nVi ser gärna att du som tillhör en annan SeniorNet-förening också kommer med – en gång eller flera gånger – vid våra träffar.\n\n\n\nKom och hälsa på oss digitalt i Tyresö!\n\nMöteslänken är:\nhttps://us02web.zoom.us/j/8104062963
URL:https://seniornet.se/event/seniornet-tyreso-digital-traff-via-zoom-7/
ATTACH;FMTTYPE=image/png:https://seniornet.se/wp-content/uploads/2025/12/tyreso.png
ORGANIZER;CN="Seniornet Tyres%C3%B6":MAILTO:tyreso@seniornet.se
END:VEVENT
BEGIN:VEVENT
DTSTART;TZID=Europe/Stockholm:20260429T153000
DTEND;TZID=Europe/Stockholm:20260429T173000
DTSTAMP:20260423T102804
CREATED:20260112T142218Z
LAST-MODIFIED:20260422T051957Z
UID:102092-1777476600-1777483800@seniornet.se
SUMMARY:SeniorNet Swedens fotoklubb
DESCRIPTION:Välkommen till SeniorNet Swedens fotoklubb\, som är öppen för alla fotointresserade seniorer.\n \nVi har en facebookgrupp med f n nära 160 medlemmar där vi delar vi bilder och diskuterar fotofrågor med varandra. \n \nSista onsdagen varje månad kl 15.30 träffas vi också digitalt via Zoom. Då kommentar vi de bilder som lagts ut i facebookgruppen. Vi får också goda fotoråd av mötesdeltagarna\, ibland i korta illustrerade föredrag i något aktuellt fotoämne. \n\nVi kommer att ha följande samtalsämnen.  1. Nyheter om swish!  2. Bixonimania? 3. Valspecial 2026.\n \nFacebook-gruppen hittar du genom att helt enkelt skriva ”SeniorNet Sweden Fotoklubb” i Facebooks sökfält. Länken till Zoom träffarna är https://us02web.zoom.us/j/8104062963
URL:https://seniornet.se/event/seniornet-swedens-fotoklubb-4/
ATTACH;FMTTYPE=image/jpeg:https://seniornet.se/wp-content/uploads/2026/01/fotoklubben.jpg
ORGANIZER;CN="SeniorNet Tyres%C3%B6":MAILTO:tyreso@seniornet.se
END:VEVENT
BEGIN:VEVENT
DTSTART;TZID=Europe/Stockholm:20260501T140000
DTEND;TZID=Europe/Stockholm:20260501T150000
DTSTAMP:20260423T102804
CREATED:20260321T171151Z
LAST-MODIFIED:20260321T171514Z
UID:102519-1777644000-1777647600@seniornet.se
SUMMARY:SNIK – Ett nätverk för inspiration\, kunskap och erfarenhetsutbyte
DESCRIPTION:SNIK – Ett nätverk för inspiration\, kunskap och erfarenhetsutbyte mellan lokala SeniorNet-föreningar.\nVi delar erfarenheter\, idéer och goda exempel. Tillsammans utvecklar vi verksamheten – med inspiration\, lärande\, samverkan och gemenskap i fokus. \nSNIK är öppet för alla föreningar som vill bidra och växa. Genom regelbundna träffar och digitala möten skapar vi en gemensam plattform. \nVill din förening vara med och bidra – och ta del av andras erfarenheter?\nVi träffas fredagar klockan 14-15 i Teams. ”Möteslänk” \nVill du ha full tillgång till SNIK och länk till direktinloggning\,  kontakta Per Tegevi\, mejl: uv@seniornet.se \nVarmt välkommen till SNIK
URL:https://seniornet.se/event/snik-ett-natverk-for-inspiration-kunskap-och-erfarenhetsutbyte-27/
ATTACH;FMTTYPE=image/jpeg:https://seniornet.se/wp-content/uploads/2025/11/lagg-till-lite-glada-emojies-e1762289495877.jpg
END:VEVENT
BEGIN:VEVENT
DTSTART;TZID=Europe/Stockholm:20260508T140000
DTEND;TZID=Europe/Stockholm:20260508T150000
DTSTAMP:20260423T102804
CREATED:20260321T164215Z
LAST-MODIFIED:20260321T165753Z
UID:102503-1778248800-1778252400@seniornet.se
SUMMARY:SNIK – Ett nätverk för inspiration\, kunskap och erfarenhetsutbyte
DESCRIPTION:SNIK – Ett nätverk för inspiration\, kunskap och erfarenhetsutbyte mellan lokala SeniorNet-föreningar.\nVi delar erfarenheter\, idéer och goda exempel. Tillsammans utvecklar vi verksamheten – med inspiration\, lärande\, samverkan och gemenskap i fokus. \nSNIK är öppet för alla föreningar som vill bidra och växa. Genom regelbundna träffar och digitala möten skapar vi en gemensam plattform. \nVill din förening vara med och bidra – och ta del av andras erfarenheter?\nVi träffas fredagar klockan 14-15 i Teams. ”Möteslänk” \nVill du ha full tillgång till SNIK och länk till direktinloggning\,  kontakta Per Tegevi\, mejl: uv@seniornet.se \nVarmt välkommen till SNIK
URL:https://seniornet.se/event/snik-ett-natverk-for-inspiration-kunskap-och-erfarenhetsutbyte-21/
ATTACH;FMTTYPE=image/jpeg:https://seniornet.se/wp-content/uploads/2025/11/lagg-till-lite-glada-emojies-e1762289495877.jpg
END:VEVENT
BEGIN:VEVENT
DTSTART;TZID=Europe/Stockholm:20260511T153000
DTEND;TZID=Europe/Stockholm:20260511T173000
DTSTAMP:20260423T102804
CREATED:20260108T182708Z
LAST-MODIFIED:20260108T183143Z
UID:101940-1778513400-1778520600@seniornet.se
SUMMARY:SeniorNet Tyresö digital träff via Zoom.
DESCRIPTION:Varannan måndag har vi i SeniorNet Tyresö en digital träff via Zoom. Vi tar upp något eller några intressanta IT-ämnen. Du kan också som besökare aktualisera något som du tycker är angeläget att få veta mer om.\n\nVi ser gärna att du som tillhör en annan SeniorNet-förening också kommer med – en gång eller flera gånger – vid våra träffar.\n\n\n\nKom och hälsa på oss digitalt i Tyresö!\n\nMöteslänken är:\nhttps://us02web.zoom.us/j/8104062963
URL:https://seniornet.se/event/seniornet-tyreso-digital-traff-via-zoom-5/
ATTACH;FMTTYPE=image/png:https://seniornet.se/wp-content/uploads/2025/12/tyreso.png
ORGANIZER;CN="Seniornet Tyres%C3%B6":MAILTO:tyreso@seniornet.se
END:VEVENT
BEGIN:VEVENT
DTSTART;TZID=Europe/Stockholm:20260515T140000
DTEND;TZID=Europe/Stockholm:20260515T150000
DTSTAMP:20260423T102804
CREATED:20260321T164452Z
LAST-MODIFIED:20260321T170350Z
UID:102505-1778853600-1778857200@seniornet.se
SUMMARY:SNIK – Ett nätverk för inspiration\, kunskap och erfarenhetsutbyte
DESCRIPTION:SNIK – Ett nätverk för inspiration\, kunskap och erfarenhetsutbyte mellan lokala SeniorNet-föreningar.\nVi delar erfarenheter\, idéer och goda exempel. Tillsammans utvecklar vi verksamheten – med inspiration\, lärande\, samverkan och gemenskap i fokus. \nSNIK är öppet för alla föreningar som vill bidra och växa. Genom regelbundna träffar och digitala möten skapar vi en gemensam plattform. \nVill din förening vara med och bidra – och ta del av andras erfarenheter?\nVi träffas fredagar klockan 14-15 i Teams. ”Möteslänk” \nVill du ha full tillgång till SNIK och länk till direktinloggning\,  kontakta Per Tegevi\, mejl: uv@seniornet.se \nVarmt välkommen till SNIK
URL:https://seniornet.se/event/snik-ett-natverk-for-inspiration-kunskap-och-erfarenhetsutbyte-22/
ATTACH;FMTTYPE=image/jpeg:https://seniornet.se/wp-content/uploads/2025/11/lagg-till-lite-glada-emojies-e1762289495877.jpg
END:VEVENT
BEGIN:VEVENT
DTSTART;TZID=Europe/Stockholm:20260518T090000
DTEND;TZID=Europe/Stockholm:20260518T130000
DTSTAMP:20260423T102804
CREATED:20251127T140337Z
LAST-MODIFIED:20260413T171149Z
UID:100386-1779094800-1779109200@seniornet.se
SUMMARY:Årsmöte 2026 SeniorNet Sweden
DESCRIPTION:Välkommen till riksorganisationens årsmöte 2026\n\nTid : 18 maj 2026\nAnslutning till mötet från klockan 09.00 för registrering/räkning av röstberättigade ombud. \n\nPlats: Digitalt via Zoom (länk kommer senare)  \nRöstetal: Varje lokal förening har en röst per påbörjat hundratal betalande medlemmar per 1 april 2026 och kan anmäla högst två ombud till årsmötet och ange hur många röster varje ombud har. \nÅrsmötet öppnar klockan 10.00 och beräknas vara klart cirka 13.00 \nHandlingar till årsmötet kommer finnas på vår hemsida i tid innan årsmötet. Årsmöte 2026 SeniorNet Sweden \n\n\nMotioner ska vara inlämnade senast 28 februari 2026\n\n\nValda ombud har  förslags- och rösträtt\nVid årsmötet representeras medlemmarna av valda ombud från respektive lokalförening. Ombuden har  förslags- och rösträtt vid årsmötet. \nOmbud till riksorganisationens årsmöte – brev om anmälan av ombud kommer har sänts till föreningarna
URL:https://seniornet.se/event/arsmote-2026-seniornet-sweden/
ATTACH;FMTTYPE=image/jpeg:https://seniornet.se/wp-content/uploads/2025/04/skapa-en-vacker-ordforandeklubba-garna-med-pastellfarger-i-en-moteslokal-garna-paskblommor-pa-bordet-e1745098189625.jpg
END:VEVENT
BEGIN:VEVENT
DTSTART;TZID=Europe/Stockholm:20260522T120000
DTEND;TZID=Europe/Stockholm:20260522T124500
DTSTAMP:20260423T102804
CREATED:20260411T141938Z
LAST-MODIFIED:20260411T142209Z
UID:102944-1779451200-1779453900@seniornet.se
SUMMARY:Betaltjänster och säkerhet
DESCRIPTION:En utbildning för dig som stöttar andra i den digitala vardagen. \nVälkommen till utbildningstillfällen inom betaltjänster och säkerhet. Länsstyrelserna Värmland\, Örebro och Östergötland bjuder in till öppna digitala föreläsningar.\nDet är kostnadsfritt att delta och ingen anmälan krävs
URL:https://seniornet.se/event/betaltjanster-och-sakerhet/
ATTACH;FMTTYPE=image/jpeg:https://seniornet.se/wp-content/uploads/2026/04/betal.jpg
END:VEVENT
BEGIN:VEVENT
DTSTART;TZID=Europe/Stockholm:20260522T140000
DTEND;TZID=Europe/Stockholm:20260522T150000
DTSTAMP:20260423T102804
CREATED:20260321T164626Z
LAST-MODIFIED:20260321T170427Z
UID:102507-1779458400-1779462000@seniornet.se
SUMMARY:SNIK – Ett nätverk för inspiration\, kunskap och erfarenhetsutbyte
DESCRIPTION:SNIK – Ett nätverk för inspiration\, kunskap och erfarenhetsutbyte mellan lokala SeniorNet-föreningar.\nVi delar erfarenheter\, idéer och goda exempel. Tillsammans utvecklar vi verksamheten – med inspiration\, lärande\, samverkan och gemenskap i fokus. \nSNIK är öppet för alla föreningar som vill bidra och växa. Genom regelbundna träffar och digitala möten skapar vi en gemensam plattform. \nVill din förening vara med och bidra – och ta del av andras erfarenheter?\nVi träffas fredagar klockan 14-15 i Teams. ”Möteslänk” \nVill du ha full tillgång till SNIK och länk till direktinloggning\,  kontakta Per Tegevi\, mejl: uv@seniornet.se \nVarmt välkommen till SNIK
URL:https://seniornet.se/event/snik-ett-natverk-for-inspiration-kunskap-och-erfarenhetsutbyte-23/
ATTACH;FMTTYPE=image/jpeg:https://seniornet.se/wp-content/uploads/2025/11/lagg-till-lite-glada-emojies-e1762289495877.jpg
END:VEVENT
BEGIN:VEVENT
DTSTART;TZID=Europe/Stockholm:20260527T153000
DTEND;TZID=Europe/Stockholm:20260527T173000
DTSTAMP:20260423T102804
CREATED:20260112T142409Z
LAST-MODIFIED:20260112T142409Z
UID:102094-1779895800-1779903000@seniornet.se
SUMMARY:SeniorNet Swedens fotoklubb
DESCRIPTION:Välkommen till SeniorNet Swedens fotoklubb\, som är öppen för alla fotointresserade seniorer.\n \nVi har en facebookgrupp med f n nära 160 medlemmar där vi delar vi bilder och diskuterar fotofrågor med varandra. \n \nSista onsdagen varje månad kl 15.30 träffas vi också digitalt via Zoom. Då kommentar vi de bilder som lagts ut i facebookgruppen. Vi får också goda fotoråd av mötesdeltagarna\, ibland i korta illustrerade föredrag i något aktuellt fotoämne.\n \nFacebook-gruppen hittar du genom att helt enkelt skriva ”SeniorNet Sweden Fotoklubb” i Facebooks sökfält. Länken till Zoom träffarna är https://us02web.zoom.us/j/8104062963
URL:https://seniornet.se/event/seniornet-swedens-fotoklubb-5/
ATTACH;FMTTYPE=image/jpeg:https://seniornet.se/wp-content/uploads/2026/01/fotoklubben.jpg
ORGANIZER;CN="SeniorNet Tyres%C3%B6":MAILTO:tyreso@seniornet.se
END:VEVENT
BEGIN:VEVENT
DTSTART;TZID=Europe/Stockholm:20260529T100000
DTEND;TZID=Europe/Stockholm:20260529T113000
DTSTAMP:20260423T102804
CREATED:20251127T134115Z
LAST-MODIFIED:20251127T134128Z
UID:100378-1780048800-1780054200@seniornet.se
SUMMARY:Medlemsseminarium SeniorNet Sweden
DESCRIPTION:Seminarium för alla medlemmar. Program presenteras senare. Preliminärt datum.
URL:https://seniornet.se/event/medlemsseminarium-seniornet-sweden-3/
ATTACH;FMTTYPE=image/jpeg:https://seniornet.se/wp-content/uploads/2025/11/Create-a-photograph-of-a-woman-and-a-man-both-in-their-60s-with-Nordic-features-appearing-content-and-engaged-in-a-natural-online-discussion.-They-are-sitting-in-a-bright-airy-room-filled-with-lush-gree-e1764250615177.jpg
END:VEVENT
BEGIN:VEVENT
DTSTART;TZID=Europe/Stockholm:20260529T140000
DTEND;TZID=Europe/Stockholm:20260529T150000
DTSTAMP:20260423T102804
CREATED:20260321T165509Z
LAST-MODIFIED:20260321T170503Z
UID:102513-1780063200-1780066800@seniornet.se
SUMMARY:SNIK – Ett nätverk för inspiration\, kunskap och erfarenhetsutbyte
DESCRIPTION:SNIK – Ett nätverk för inspiration\, kunskap och erfarenhetsutbyte mellan lokala SeniorNet-föreningar.\nVi delar erfarenheter\, idéer och goda exempel. Tillsammans utvecklar vi verksamheten – med inspiration\, lärande\, samverkan och gemenskap i fokus. \nSNIK är öppet för alla föreningar som vill bidra och växa. Genom regelbundna träffar och digitala möten skapar vi en gemensam plattform. \nVill din förening vara med och bidra – och ta del av andras erfarenheter?\nVi träffas fredagar klockan 14-15 i Teams. ”Möteslänk” \nVill du ha full tillgång till SNIK och länk till direktinloggning\,  kontakta Per Tegevi\, mejl: uv@seniornet.se \nVarmt välkommen till SNIK
URL:https://seniornet.se/event/snik-ett-natverk-for-inspiration-kunskap-och-erfarenhetsutbyte-24/
ATTACH;FMTTYPE=image/jpeg:https://seniornet.se/wp-content/uploads/2025/11/lagg-till-lite-glada-emojies-e1762289495877.jpg
END:VEVENT
BEGIN:VEVENT
DTSTART;TZID=Europe/Stockholm:20260605T140000
DTEND;TZID=Europe/Stockholm:20260605T150000
DTSTAMP:20260423T102804
CREATED:20260321T165617Z
LAST-MODIFIED:20260321T170631Z
UID:102515-1780668000-1780671600@seniornet.se
SUMMARY:SNIK – Ett nätverk för inspiration\, kunskap och erfarenhetsutbyte
DESCRIPTION:SNIK – Ett nätverk för inspiration\, kunskap och erfarenhetsutbyte mellan lokala SeniorNet-föreningar.\nVi delar erfarenheter\, idéer och goda exempel. Tillsammans utvecklar vi verksamheten – med inspiration\, lärande\, samverkan och gemenskap i fokus. \nSNIK är öppet för alla föreningar som vill bidra och växa. Genom regelbundna träffar och digitala möten skapar vi en gemensam plattform. \nVill din förening vara med och bidra – och ta del av andras erfarenheter?\nVi träffas fredagar klockan 14-15 i Teams. ”Möteslänk” \nVill du ha full tillgång till SNIK och länk till direktinloggning\,  kontakta Per Tegevi\, mejl: uv@seniornet.se \nVarmt välkommen till SNIK
URL:https://seniornet.se/event/snik-ett-natverk-for-inspiration-kunskap-och-erfarenhetsutbyte-25/
ATTACH;FMTTYPE=image/jpeg:https://seniornet.se/wp-content/uploads/2025/11/lagg-till-lite-glada-emojies-e1762289495877.jpg
END:VEVENT
BEGIN:VEVENT
DTSTART;TZID=Europe/Stockholm:20260624T153000
DTEND;TZID=Europe/Stockholm:20260624T173000
DTSTAMP:20260423T102804
CREATED:20260112T142517Z
LAST-MODIFIED:20260112T142517Z
UID:102096-1782315000-1782322200@seniornet.se
SUMMARY:SeniorNet Swedens fotoklubb
DESCRIPTION:Välkommen till SeniorNet Swedens fotoklubb\, som är öppen för alla fotointresserade seniorer.\n \nVi har en facebookgrupp med f n nära 160 medlemmar där vi delar vi bilder och diskuterar fotofrågor med varandra. \n \nSista onsdagen varje månad kl 15.30 träffas vi också digitalt via Zoom. Då kommentar vi de bilder som lagts ut i facebookgruppen. Vi får också goda fotoråd av mötesdeltagarna\, ibland i korta illustrerade föredrag i något aktuellt fotoämne.\n \nFacebook-gruppen hittar du genom att helt enkelt skriva ”SeniorNet Sweden Fotoklubb” i Facebooks sökfält. Länken till Zoom träffarna är https://us02web.zoom.us/j/8104062963
URL:https://seniornet.se/event/seniornet-swedens-fotoklubb-6/
ATTACH;FMTTYPE=image/jpeg:https://seniornet.se/wp-content/uploads/2026/01/fotoklubben.jpg
ORGANIZER;CN="SeniorNet Tyres%C3%B6":MAILTO:tyreso@seniornet.se
END:VEVENT
END:VCALENDAR